BEGIN:VCALENDAR
PRODID:-//kirchenweb.ch gmbh//veranstaltungsausgabe v2.0//DE
VERSION:2.0
METHOD:PUBLISH
BEGIN:VEVENT
DTSTART:20260512T074500Z
DTEND:20260512T154500Z
LOCATION:Treffpunkt Petersplatz Universität\, \,
TRANSP:OPAQUE
SEQUENCE:0
UID:223317-veranstaltung@erk-bs.ch
DTSTAMP:20260209T152602Z
DESCRIPTION:Der Tagesausflug führt uns mit dem Sägesser-Car von Basel in
  den Schwarzwald nach St. Märgen (Fahrzeit ca. 1 ¾ Stunden)\, wo wir im
  Gasthaus Rössle zum Mittagessen erwartet werden. Gestärkt geht es
  weiter ins nahegelegene St. Peter (Fahrzeit ca.15 Minuten). Dort haben
  wir die Möglichkeit\, in einer einstündigen Führung das Wahrzeichen
  des Ortes – die barocke Klosterkirche – zu besichtigen\, bevor wir
  kurz nach 16 Uhr wieder die Rückreise antreten.\n\nKontakt:
  claudia.schulthess@erk-bs.ch\n\nWeitere Infos:
  https://www.erk-bs.ch/veranstaltung/223317
SUMMARY:Tagesausflug St. Peter (Schwarzwald)
PRIORITY:5
X-MICROSOFT-CDO-IMPORTANCE:1
CLASS:PUBLIC
END:VEVENT
END:VCALENDAR
