BEGIN:VCALENDAR
PRODID:-//kirchenweb.ch gmbh//veranstaltungsausgabe v2.0//DE
VERSION:2.0
METHOD:PUBLISH
BEGIN:VEVENT
DTSTART:20260621T080000Z
DTEND:20260621T120000Z
LOCATION:Kirche Bettingen\, Brohegasse 3\, 4126 Bettingen
TRANSP:OPAQUE
SEQUENCE:0
UID:223384-veranstaltung@erk-bs.ch
DTSTAMP:20260202T154530Z
DESCRIPTION:Kontakt: Caroline Schachinger\n\nWeitere Infos:
  https://www.erk-bs.ch/veranstaltung/223384
SUMMARY:Kirchlifest
PRIORITY:5
X-MICROSOFT-CDO-IMPORTANCE:1
CLASS:PUBLIC
END:VEVENT
END:VCALENDAR
