BEGIN:VCALENDAR
PRODID:-//kirchenweb.ch gmbh//veranstaltungsausgabe v2.0//DE
VERSION:2.0
METHOD:PUBLISH
BEGIN:VEVENT
DTSTART:20260621T080000Z
DTEND:20260621T090000Z
LOCATION:Kirche Bettingen\, Brohegasse 3\, 4126 Bettingen
TRANSP:OPAQUE
SEQUENCE:0
UID:223392-veranstaltung@erk-bs.ch
DTSTAMP:20260202T160105Z
DESCRIPTION:KiBiKa steht für Kinder\, Bibel und Kaleidoskop.\nKaleidoskop
  wird mit Kreativität\, Verspieltheit und Achtsamkeit in Verbindung
  gebracht. In dieser\nWeise dürfen die Kinder ihre Zeit während des
  Gottesdienstes im Jugendraum verbringen. Hier\nkönnen sie ihre Formen
  und Farben einfliessen lassen\, wobei die Bibel und der Glaube an Gott
 \nim Mittelpunkt stehen. Ab und zu gestalten die Kinder zusammen mit den
  Leiterinnen ein Theater.\nWillkommen sind Kinder ab 5 Jahre.\nTreffpunkt
  im Gottesdienst\, danach im Jugendraum der Kirche Bettingen\n\nKontakt:
  Caroline Schachinger\nObere Dorfstrasse 29\n4126 Bettingen\nTel.: 061-601
  21 06\n\nWeitere Infos: https://www.erk-bs.ch/veranstaltung/223392
SUMMARY:Kinder-Kino-KiBiKa Bettingen
PRIORITY:5
X-MICROSOFT-CDO-IMPORTANCE:1
CLASS:PUBLIC
END:VEVENT
END:VCALENDAR
