BEGIN:VCALENDAR
PRODID:-//kirchenweb.ch gmbh//veranstaltungsausgabe v2.0//DE
VERSION:2.0
METHOD:PUBLISH
BEGIN:VEVENT
DTSTART:20260615T130000Z
DTEND:20260615T150000Z
LOCATION:Gemeindezentrum Johannes\, \,
TRANSP:OPAQUE
SEQUENCE:0
UID:223494-veranstaltung@erk-bs.ch
DTSTAMP:20260414T134354Z
DESCRIPTION:Kontakt: Sr. Anni\n\nWeitere Infos:
  https://www.erk-bs.ch/veranstaltung/223494
SUMMARY:Sprachcafé
PRIORITY:5
X-MICROSOFT-CDO-IMPORTANCE:1
CLASS:PUBLIC
END:VEVENT
END:VCALENDAR
