BEGIN:VCALENDAR
PRODID:-//kirchenweb.ch gmbh//veranstaltungsausgabe v2.0//DE
VERSION:2.0
METHOD:PUBLISH
BEGIN:VEVENT
DTSTART:20270207T101500Z
DTEND:20270207T110000Z
LOCATION:Peterskirche\, Peterskirchplatz 7\, 4051 Basel
TRANSP:OPAQUE
SEQUENCE:0
UID:223591-veranstaltung@erk-bs.ch
DTSTAMP:20260205T095332Z
DESCRIPTION:Kontakt: Ekaterina Kofanova\n\nWeitere Infos:
  https://www.erk-bs.ch/veranstaltung/223591
SUMMARY:Orgelmatinne
PRIORITY:5
X-MICROSOFT-CDO-IMPORTANCE:1
CLASS:PUBLIC
END:VEVENT
END:VCALENDAR
