BEGIN:VCALENDAR
PRODID:-//kirchenweb.ch gmbh//veranstaltungsausgabe v2.0//DE
VERSION:2.0
METHOD:PUBLISH
BEGIN:VEVENT
DTSTART:20270123T110000Z
DTEND:20270123T130000Z
LOCATION:Peterskirche\, Peterskirchplatz 7\, 4051 Basel
TRANSP:OPAQUE
SEQUENCE:0
UID:223593-veranstaltung@erk-bs.ch
DTSTAMP:20260205T095957Z
DESCRIPTION:Kontakt: Pfarrerin Rebekka Scartazzini\n\nWeitere Infos:
  https://www.erk-bs.ch/veranstaltung/223593
SUMMARY:A Tavola
PRIORITY:5
X-MICROSOFT-CDO-IMPORTANCE:1
CLASS:PUBLIC
END:VEVENT
END:VCALENDAR
