BEGIN:VCALENDAR
PRODID:-//kirchenweb.ch gmbh//veranstaltungsausgabe v2.0//DE
VERSION:2.0
METHOD:PUBLISH
BEGIN:VEVENT
DTSTART:20261018T170000Z
DTEND:20261018T180000Z
LOCATION:Kapelle Kommunität Diakonissenhaus\, Schützengasse 51\, 4125
  Riehen
TRANSP:OPAQUE
SEQUENCE:0
UID:223664-veranstaltung@erk-bs.ch
DTSTAMP:20260206T105020Z
DESCRIPTION:Kontakt: rahel.probst@erk-bs.ch\n\nWeitere Infos:
  https://www.erk-bs.ch/veranstaltung/223664
SUMMARY:Taizé Abendgebet
PRIORITY:5
X-MICROSOFT-CDO-IMPORTANCE:1
CLASS:PUBLIC
END:VEVENT
END:VCALENDAR
