BEGIN:VCALENDAR
PRODID:-//kirchenweb.ch gmbh//veranstaltungsausgabe v2.0//DE
VERSION:2.0
METHOD:PUBLISH
BEGIN:VEVENT
DTSTART:20260925T074500Z
DTEND:20260925T163000Z
LOCATION:Treffpunkt Petersplatz Universität\, \,
TRANSP:OPAQUE
SEQUENCE:0
UID:223669-veranstaltung@erk-bs.ch
DTSTAMP:20260209T154007Z
DESCRIPTION:Der Tagesausflug mit dem Sägesser-Car führt uns in den
  Kanton Schaffhausen\, ins schöne Klettgau (Fahrzeit
  ca. 1½ Stunden). In Hallau werden wir in der Winzerstube der Familie
  Keller mit einem feinen Mittagessen verwöhnt. Anschliessend unternehmen
  wir eine gemütliche Fahrt mit dem Rebenbummler\, einem Traktor mit
  Anhängerwagen\, durch das Weinbaugebiet und die reizvolle Landschaft des
  Hallauer Bergrückens – mit herrlicher Sicht bis in den Schwarzwald
  (Dauer ca. 1½ Stunden). Bevor wir die Rückreise antreten\,
  geniessen wir noch Dessert und Kaffee.\n\n\nKontakt:
  claudia.schulthess@erk-bs.ch\n\nWeitere Infos:
  https://www.erk-bs.ch/veranstaltung/223669
SUMMARY:Tagesausflug nach Hallau
PRIORITY:5
X-MICROSOFT-CDO-IMPORTANCE:1
CLASS:PUBLIC
END:VEVENT
END:VCALENDAR
