BEGIN:VCALENDAR
PRODID:-//kirchenweb.ch gmbh//veranstaltungsausgabe v2.0//DE
VERSION:2.0
METHOD:PUBLISH
BEGIN:VEVENT
DTSTART:20260429T100000Z
DTEND:20260429T120000Z
LOCATION:Rosi´s Garten\, Rauracherstrasse 111\, 4125 Riehen
TRANSP:OPAQUE
SEQUENCE:0
UID:223691-veranstaltung@erk-bs.ch
DTSTAMP:20260210T105456Z
DESCRIPTION:Ein kurzes "Wegwort" bereichert jeweils die Mahlzeit.\n
 \nTeilnehmende bezahlen ihr Essen selbst. Bei Nichterscheinen oder zu
  kurzfristiger Abmeldung bitten wir Sie uns die dadurch entstandene
  Unkosten zu erstatten.\n\nKontakt: Rita Blauenstein\n\nWeitere Infos:
  https://www.erk-bs.ch/veranstaltung/223691
SUMMARY:Mittagstreff Riehen-Dorf 60+
PRIORITY:5
X-MICROSOFT-CDO-IMPORTANCE:1
CLASS:PUBLIC
END:VEVENT
END:VCALENDAR
