BEGIN:VCALENDAR
PRODID:-//kirchenweb.ch gmbh//veranstaltungsausgabe v2.0//DE
VERSION:2.0
METHOD:PUBLISH
BEGIN:VEVENT
DTSTART:20261125T110000Z
DTEND:20261125T130000Z
LOCATION:Baselhof Bettingen\, Brohegasse 6\, 4126 Bettingen
TRANSP:OPAQUE
SEQUENCE:0
UID:223696-veranstaltung@erk-bs.ch
DTSTAMP:20260210T110315Z
DESCRIPTION:Ein kurzes "Wegwort" bereichert jeweils die Mahlzeit.\n
 \nTeilnehmende bezahlen ihr Essen selbst. Bei Nichterscheinen oder zu
  kurzfristiger Abmeldung bitten wir Sie uns die dadurch entstandene
  Unkosten zu erstatten.\n\nKontakt: Rita Blauenstein\n\nWeitere Infos:
  https://www.erk-bs.ch/veranstaltung/223696
SUMMARY:Mittagstreff Riehen-Dorf 60+
PRIORITY:5
X-MICROSOFT-CDO-IMPORTANCE:1
CLASS:PUBLIC
END:VEVENT
END:VCALENDAR
