BEGIN:VCALENDAR
PRODID:-//kirchenweb.ch gmbh//veranstaltungsausgabe v2.0//DE
VERSION:2.0
METHOD:PUBLISH
BEGIN:VEVENT
DTSTART:20260826T073000Z
DTEND:20260826T103000Z
LOCATION:Zwinglihaus\, Gundeldingerstrasse 370\, 4053 Basel
TRANSP:OPAQUE
SEQUENCE:0
UID:223732-veranstaltung@erk-bs.ch
DTSTAMP:20260211T134130Z
DESCRIPTION:Kontakt: Maria Zinsstag\n\nWeitere Infos:
  https://www.erk-bs.ch/veranstaltung/223732
SUMMARY:Intervisionstreffen APH
PRIORITY:5
X-MICROSOFT-CDO-IMPORTANCE:1
CLASS:PUBLIC
END:VEVENT
END:VCALENDAR
