BEGIN:VCALENDAR
PRODID:-//kirchenweb.ch gmbh//veranstaltungsausgabe v2.0//DE
VERSION:2.0
METHOD:PUBLISH
BEGIN:VEVENT
DTSTART:20260815T160000Z
DTEND:20260815T170000Z
LOCATION:Heiliggeistkirche\, Thiersteinerallee 49\, 4053 Basel
TRANSP:OPAQUE
SEQUENCE:0
UID:223747-veranstaltung@erk-bs.ch
DTSTAMP:20260409T075245Z
DESCRIPTION:Zwischendrin\neine spirituelle Feier\, konfessions-\,
  religions- und glaubensübergreifend\nmit Texten und Musik und einer Zeit
  der Stille\ngestaltet vom Vorbereitungsteam Zwischendrin\nzum Thema "Lob
  der Langsamkeit"\nam Samstag\, 15. August um 18 Uhr in der
  Heiliggeistkirche\nmit George Ricci und seinem Saxophon\nauch 21.
  November 2026\n\n\n\nKontakt: Anne Lauer\n\nWeitere Infos:
  https://www.erk-bs.ch/veranstaltung/223747
SUMMARY:Zwischendrin
PRIORITY:5
X-MICROSOFT-CDO-IMPORTANCE:1
CLASS:PUBLIC
END:VEVENT
END:VCALENDAR
