BEGIN:VCALENDAR
PRODID:-//kirchenweb.ch gmbh//veranstaltungsausgabe v2.0//DE
VERSION:2.0
METHOD:PUBLISH
BEGIN:VEVENT
DTSTART:20261121T170000Z
DTEND:20261121T180000Z
LOCATION:Heiliggeistkirche \, Thiersteinerallee 49\, 4053 Basel
TRANSP:OPAQUE
SEQUENCE:0
UID:223748-veranstaltung@erk-bs.ch
DTSTAMP:20260409T081457Z
DESCRIPTION:Zwischendrin\neine spirituelle Feier\, konfessions-\,
  religions- und glaubensübergreifend\nmit Texten und Musik und einer Zeit
  der Stille\ngestaltet vom Vorbereitungsteam Zwischendrin\nzum Thema "Mein
  Umfeld - die Welt?"\nam Samstag\, 21. November\num 18 Uhr in der
  Heiliggeistkirche/Basel\nThema: "Mein Umfeld - meine Welt"\n\nKontakt:
  Anne Lauer\n\nWeitere Infos: https://www.erk-bs.ch/veranstaltung/223748
SUMMARY:Zwischendrin
PRIORITY:5
X-MICROSOFT-CDO-IMPORTANCE:1
CLASS:PUBLIC
END:VEVENT
END:VCALENDAR
