BEGIN:VCALENDAR
PRODID:-//kirchenweb.ch gmbh//veranstaltungsausgabe v2.0//DE
VERSION:2.0
METHOD:PUBLISH
BEGIN:VEVENT
DTSTART:20260715T124500Z
DTEND:20260715T173000Z
LOCATION:Andreashaus\, \,
TRANSP:OPAQUE
SEQUENCE:0
UID:223908-veranstaltung@erk-bs.ch
DTSTAMP:20260218T110504Z
DESCRIPTION:Kontakt: greg.bohny@erk-bs.ch\n\nWeitere Infos:
  https://www.erk-bs.ch/veranstaltung/223908
SUMMARY:Klavierunterrucht
PRIORITY:5
X-MICROSOFT-CDO-IMPORTANCE:1
CLASS:PUBLIC
END:VEVENT
END:VCALENDAR
