BEGIN:VCALENDAR
PRODID:-//kirchenweb.ch gmbh//veranstaltungsausgabe v2.0//DE
VERSION:2.0
METHOD:PUBLISH
BEGIN:VEVENT
DTSTART:20260521T080000Z
DTEND:20260521T090000Z
LOCATION:Meierhof\, \,
TRANSP:OPAQUE
SEQUENCE:0
UID:224088-veranstaltung@erk-bs.ch
DTSTAMP:20260224T102954Z
DESCRIPTION:Pfarrerin Martina Holder\n\nKontakt: Martina Holder\n\n
 \nWeitere Infos: https://www.erk-bs.ch/veranstaltung/224088
SUMMARY:Bibelcafé Donnerstag
PRIORITY:5
X-MICROSOFT-CDO-IMPORTANCE:1
CLASS:PUBLIC
END:VEVENT
END:VCALENDAR
