BEGIN:VCALENDAR
PRODID:-//kirchenweb.ch gmbh//veranstaltungsausgabe v2.0//DE
VERSION:2.0
METHOD:PUBLISH
BEGIN:VEVENT
DTSTART:20260325T130000Z
DTEND:20260325T140000Z
LOCATION:Titus Kirche\, \,
TRANSP:OPAQUE
SEQUENCE:0
UID:224094-veranstaltung@erk-bs.ch
DTSTAMP:20260225T071411Z
DESCRIPTION:Kontakt: Harald Matern Schneider\n\nWeitere Infos:
  https://www.erk-bs.ch/veranstaltung/224094
SUMMARY:Abdankung Max Graf
PRIORITY:5
X-MICROSOFT-CDO-IMPORTANCE:1
CLASS:PUBLIC
END:VEVENT
END:VCALENDAR
