BEGIN:VCALENDAR
PRODID:-//kirchenweb.ch gmbh//veranstaltungsausgabe v2.0//DE
VERSION:2.0
METHOD:PUBLISH
BEGIN:VEVENT
DTSTART:20260509T080000Z
DTEND:20260509T101500Z
LOCATION:Münster\, Münsterplatz 9\, 4051 Basel
TRANSP:OPAQUE
SEQUENCE:0
UID:224116-veranstaltung@erk-bs.ch
DTSTAMP:20260227T150557Z
DESCRIPTION:Kurzfristige Schliessung (z.B. wegen Konzerten\, Abdankungen\,
  Bauarbeiten)\n\nKontakt: sandra.schmied@erk-bs.ch\n\nWeitere Infos:
  https://www.erk-bs.ch/veranstaltung/224116
SUMMARY:Münster geschlossen\, bis 12.15 Uhr
PRIORITY:5
X-MICROSOFT-CDO-IMPORTANCE:1
CLASS:PUBLIC
END:VEVENT
END:VCALENDAR
