BEGIN:VCALENDAR
PRODID:-//kirchenweb.ch gmbh//veranstaltungsausgabe v2.0//DE
VERSION:2.0
METHOD:PUBLISH
BEGIN:VEVENT
DTSTART:20260429T070000Z
DTEND:20260429T074000Z
LOCATION:Gellertkirche oder extern\, Emanuel Büchel-Str. 40\, 4052 Basel
TRANSP:OPAQUE
SEQUENCE:0
UID:224181-veranstaltung@erk-bs.ch
DTSTAMP:20260304T100730Z
DESCRIPTION:Offene Sportgruppe für Frauen jeden Alters\, mittwochs ausser
  in den Schulferien.\nWir treffen uns auf der Breitematte beim Spielplatz
  und bei schlechtem Wetter in der Gellertkirche\, Raum Salome.\n\nKontakt:
  amy.bihm@gmail.com\, 078 404 97 96\nAlle Infos unter
  www.gellertkirche.ch/sport-im-park\n\nKontakt: Daniel Dummermuth\n
 \nWeitere Infos: https://www.erk-bs.ch/veranstaltung/224181
SUMMARY:Sport im Park - für Frauen
PRIORITY:5
X-MICROSOFT-CDO-IMPORTANCE:1
CLASS:PUBLIC
END:VEVENT
END:VCALENDAR
