BEGIN:VCALENDAR
PRODID:-//kirchenweb.ch gmbh//veranstaltungsausgabe v2.0//DE
VERSION:2.0
METHOD:PUBLISH
BEGIN:VEVENT
DTSTART:20270107T080000Z
DTEND:20270107T093000Z
LOCATION:Gellertkirche\, Emanuel Büchel-Str. 40\, 4052 Basel
TRANSP:OPAQUE
SEQUENCE:0
UID:224227-veranstaltung@erk-bs.ch
DTSTAMP:20260305T125152Z
DESCRIPTION:Wir studieren gemeinsam biblische Texte und ermutigen uns zur
  täglichen Christusnachfolge.\n\nLeitung: Dr. theol. Hans Ulrich Reifler
 \n\nDonnerstags\, ausser in den Schulferien\, 9-10.30 Uhr\, Raum Petrus.\n
 \nKontakt: Hans Ulrich Reifler\n\nWeitere Infos:
  https://www.erk-bs.ch/veranstaltung/224227
SUMMARY:Pensioniertentreff für Männer
PRIORITY:5
X-MICROSOFT-CDO-IMPORTANCE:1
CLASS:PUBLIC
END:VEVENT
END:VCALENDAR
