BEGIN:VCALENDAR
PRODID:-//kirchenweb.ch gmbh//veranstaltungsausgabe v2.0//DE
VERSION:2.0
METHOD:PUBLISH
BEGIN:VEVENT
DTSTART:20260626T160000Z
DTEND:20260626T200000Z
LOCATION:Bettingen\, Brohegasse 3\, 4126 Bettingen
TRANSP:OPAQUE
SEQUENCE:0
UID:224333-veranstaltung@erk-bs.ch
DTSTAMP:20260422T091749Z
DESCRIPTION:Sei dabei\, beim Training der legendären Unihockey Coyotes.
 \nHier geht es um Teamgeist\, Freundschaft\, Spaß und natürlich um
  Unihockey.\nWir trainieren gemeinsam\, haben gute Gemeinschaft und hören
  eine Andacht.\nTrainingszeiten:\nU11: 18:00-19:30\nU13: 19:00-20.30\nU16:
  20:00-22:00\nDu bist herzlich eingeladen mal reinzuschauen :)\n\nKontakt:
  Elias Graf\n\nWeitere Infos: https://www.erk-bs.ch/veranstaltung/224333
SUMMARY:Coyotes Bettingen (Unihockey) U11\, U13\, U16  Turnhalle
  Primarschule Bettingen
PRIORITY:5
X-MICROSOFT-CDO-IMPORTANCE:1
CLASS:PUBLIC
END:VEVENT
END:VCALENDAR
