BEGIN:VCALENDAR
PRODID:-//kirchenweb.ch gmbh//veranstaltungsausgabe v2.0//DE
VERSION:2.0
METHOD:PUBLISH
BEGIN:VEVENT
DTSTART:20270327T210000Z
DTEND:20270327T223000Z
LOCATION:Münster\, Münsterplatz 9\, 4051 Basel
TRANSP:OPAQUE
SEQUENCE:0
UID:224356-veranstaltung@erk-bs.ch
DTSTAMP:20260306T084842Z
DESCRIPTION:Wir feiern den Gottesdienst zur Osternacht mit Pfr. Lukas
  Kundert und dem OYENGA Gospelchor am Münster. Nach dem stimmungsvollen
  Beginn im dunklen Münster\, dem Anzünden der Osterkerze und Weitergabe
  des Lichts\, umfängt uns Raum und Zeit. Auf dem Weg zum Hochchor
  erinnern wir uns der Taufe. Musikalisch begleitet wird der Gottesdienst
  von leisen\, kräftigen\, schweren und leicht Stimmen des Gospelchors. \n
 \nKontakt: Pfr. Lukas Kundert\n\nWeitere Infos:
  https://www.erk-bs.ch/veranstaltung/224356
SUMMARY:Gottesdienst zur Osternacht
PRIORITY:5
X-MICROSOFT-CDO-IMPORTANCE:1
CLASS:PUBLIC
END:VEVENT
END:VCALENDAR
