BEGIN:VCALENDAR
PRODID:-//kirchenweb.ch gmbh//veranstaltungsausgabe v2.0//DE
VERSION:2.0
METHOD:PUBLISH
BEGIN:VEVENT
DTSTART:20270326T090000Z
DTEND:20270326T100000Z
LOCATION:Münster\, Münsterplatz 9\, 4051 Basel
TRANSP:OPAQUE
SEQUENCE:0
UID:224363-veranstaltung@erk-bs.ch
DTSTAMP:20260306T095412Z
DESCRIPTION:Im Anschluss Kirchenkaffee in der Hofstube\, Bischofshof
 \n(ausser nach Abendmahlsgottesdienst und während der Schulferien)\n\nAm
  dritten Sonntag im Monat (ausser während der Schulferien) findet jeweils
  zeitgleich Kinderkirche im Gemeindesaal statt. \nWeitere Informationen:
  https://baslermuenster.ch/kirchliches-leben/kinder-und-jugendliche/kinder
 kirche\n\n\n\nKontakt: sandra.schmied@erk-bs.ch\n\nWeitere Infos:
  https://www.erk-bs.ch/veranstaltung/224363
SUMMARY:Gottesdienst mit Abendmahl an Karfreitag
PRIORITY:5
X-MICROSOFT-CDO-IMPORTANCE:1
CLASS:PUBLIC
END:VEVENT
END:VCALENDAR
