BEGIN:VCALENDAR
PRODID:-//kirchenweb.ch gmbh//veranstaltungsausgabe v2.0//DE
VERSION:2.0
METHOD:PUBLISH
BEGIN:VEVENT
DTSTART:20271224T153000Z
DTEND:20271224T160000Z
LOCATION:Münster\, Münsterplatz 9\, 4051 Basel
TRANSP:OPAQUE
SEQUENCE:0
UID:224368-veranstaltung@erk-bs.ch
DTSTAMP:20260306T095711Z
DESCRIPTION:Wort und Musik\nVesper an Heilig Abend\, Ad Hoc Orchester und
  Gospelchor\n\num 17.00 Uhr Vesperblasen und offenes Singen auf dem
  Münsterplatz mit dem Stadtposaunenchor\n\nKontakt:
  sandra.schmied@erk-bs.ch\n\nWeitere Infos:
  https://www.erk-bs.ch/veranstaltung/224368
SUMMARY:Christ-Vesper
PRIORITY:5
X-MICROSOFT-CDO-IMPORTANCE:1
CLASS:PUBLIC
END:VEVENT
END:VCALENDAR
