BEGIN:VCALENDAR
PRODID:-//kirchenweb.ch gmbh//veranstaltungsausgabe v2.0//DE
VERSION:2.0
METHOD:PUBLISH
BEGIN:VEVENT
DTSTART:20271224T210000Z
DTEND:20271224T220000Z
LOCATION:Münster\, Münsterplatz 9\, 4051 Basel
TRANSP:OPAQUE
SEQUENCE:0
UID:224369-veranstaltung@erk-bs.ch
DTSTAMP:20260306T095740Z
DESCRIPTION:Knabenkantorei.\n\n\n\nKontakt: LKu\n\nWeitere Infos:
  https://www.erk-bs.ch/veranstaltung/224369
SUMMARY:Christnachtfeier
PRIORITY:5
X-MICROSOFT-CDO-IMPORTANCE:1
CLASS:PUBLIC
END:VEVENT
END:VCALENDAR
