BEGIN:VCALENDAR
PRODID:-//kirchenweb.ch gmbh//veranstaltungsausgabe v2.0//DE
VERSION:2.0
METHOD:PUBLISH
BEGIN:VEVENT
DTSTART:20271224T161500Z
DTEND:20271224T164500Z
LOCATION:vor dem Münster\, Münsterplatz 9\, 4051 Basel
TRANSP:OPAQUE
SEQUENCE:0
UID:224370-veranstaltung@erk-bs.ch
DTSTAMP:20260306T095839Z
DESCRIPTION:Kontakt: sandra.schmied@erk-bs.ch\n\nWeitere Infos:
  https://www.erk-bs.ch/veranstaltung/224370
SUMMARY:der Stadtposaunenchor Basel spielt vor dem Münster
  Weihnachtslieder zum mitsingen
PRIORITY:5
X-MICROSOFT-CDO-IMPORTANCE:1
CLASS:PUBLIC
END:VEVENT
END:VCALENDAR
