BEGIN:VCALENDAR
PRODID:-//kirchenweb.ch gmbh//veranstaltungsausgabe v2.0//DE
VERSION:2.0
METHOD:PUBLISH
BEGIN:VEVENT
DTSTART:20260718T150000Z
DTEND:20260718T155000Z
LOCATION:Münster\, Münsterplatz 9\, 4051 Basel
TRANSP:OPAQUE
SEQUENCE:0
UID:224376-veranstaltung@erk-bs.ch
DTSTAMP:20260306T110259Z
DESCRIPTION:«Bach um 5» findet jeden Samstag statt. \nAusnahmen:\n\nIn
  den Monaten Juli/August\nStadtlauf\, zweitletzter Samstag im November
 \nWährend der drei Herbstmesse-Samstagen\nSamstag zwischen Weihnachten
  und Neujahr\n\nweitere Termine: \n \n\nKontakt: sandra.schmied@erk-bs.ch
 \n\nWeitere Infos: https://www.erk-bs.ch/veranstaltung/224376
SUMMARY:Bach um 5 findet heute nicht statt
PRIORITY:5
X-MICROSOFT-CDO-IMPORTANCE:1
CLASS:PUBLIC
END:VEVENT
END:VCALENDAR
