BEGIN:VCALENDAR
PRODID:-//kirchenweb.ch gmbh//veranstaltungsausgabe v2.0//DE
VERSION:2.0
METHOD:PUBLISH
BEGIN:VEVENT
DTSTART:20280109T090000Z
DTEND:20280109T110000Z
LOCATION:Münster\, Münsterplatz 9\, 4051 Basel
TRANSP:OPAQUE
SEQUENCE:0
UID:224415-veranstaltung@erk-bs.ch
DTSTAMP:20260309T075807Z
DESCRIPTION:Kinder während des Gottesdienstes:\n\nFür Kinder bis 5 Jahre
  gibt es während der Gottesdienste einen Kinderhütedienst im Bischofshof
  (Münstersaal)\nFür Kinder von 6 bis 12 Jahre findet ein begeisterndes
  Kinderprogramm im Bischofshof (Gemeindesaal) statt.\n\nKontakt: Pfr.
  Lukas Kundert\n\nWeitere Infos:
  https://www.erk-bs.ch/veranstaltung/224415
SUMMARY:Allianz-Gottesdienst "zämme für Basel"
PRIORITY:5
X-MICROSOFT-CDO-IMPORTANCE:1
CLASS:PUBLIC
END:VEVENT
END:VCALENDAR
