BEGIN:VCALENDAR
PRODID:-//kirchenweb.ch gmbh//veranstaltungsausgabe v2.0//DE
VERSION:2.0
METHOD:PUBLISH
BEGIN:VEVENT
DTSTART:20270112T180000Z
DTEND:20270112T183000Z
LOCATION:Münsterhüsli\, Münsterplatz 13\, 4051 Basel
TRANSP:OPAQUE
SEQUENCE:0
UID:224469-veranstaltung@erk-bs.ch
DTSTAMP:20260309T080545Z
DESCRIPTION:Montag\, Dienstag\, Donnerstag\, Freitag 19.00 – 19.30 Uhr
 \nWir freuen uns über alle Mitbetenden\n\nKontakt: Sr. Esther Herren\n
 \nWeitere Infos: https://www.erk-bs.ch/veranstaltung/224469
SUMMARY:Abendgebet
PRIORITY:5
X-MICROSOFT-CDO-IMPORTANCE:1
CLASS:PUBLIC
END:VEVENT
END:VCALENDAR
