BEGIN:VCALENDAR
PRODID:-//kirchenweb.ch gmbh//veranstaltungsausgabe v2.0//DE
VERSION:2.0
METHOD:PUBLISH
BEGIN:VEVENT
DTSTART:20270404T173000Z
DTEND:20270404T183000Z
LOCATION:Niklauskapelle\, Kreuzgang\, Münsterplatz 9\, 4051 Basel
TRANSP:OPAQUE
SEQUENCE:0
UID:224678-veranstaltung@erk-bs.ch
DTSTAMP:20260309T080738Z
DESCRIPTION:Kontakt: yvonne.pereira@erk-bs.ch\n\nWeitere Infos:
  https://www.erk-bs.ch/veranstaltung/224678
SUMMARY:Abendgottesdienst am Münster
PRIORITY:5
X-MICROSOFT-CDO-IMPORTANCE:1
CLASS:PUBLIC
END:VEVENT
END:VCALENDAR
