BEGIN:VCALENDAR
PRODID:-//kirchenweb.ch gmbh//veranstaltungsausgabe v2.0//DE
VERSION:2.0
METHOD:PUBLISH
BEGIN:VEVENT
DTSTART:20271121T183000Z
DTEND:20271121T193000Z
LOCATION:Niklauskapelle\, Kreuzgang\, Münsterplatz 9\, 4051 Basel
TRANSP:OPAQUE
SEQUENCE:0
UID:224704-veranstaltung@erk-bs.ch
DTSTAMP:20260309T080746Z
DESCRIPTION:Kontakt: yvonne.pereira@erk-bs.ch\n\nWeitere Infos:
  https://www.erk-bs.ch/veranstaltung/224704
SUMMARY:Abendgottesdienst am Münster
PRIORITY:5
X-MICROSOFT-CDO-IMPORTANCE:1
CLASS:PUBLIC
END:VEVENT
END:VCALENDAR
