BEGIN:VCALENDAR
PRODID:-//kirchenweb.ch gmbh//veranstaltungsausgabe v2.0//DE
VERSION:2.0
METHOD:PUBLISH
BEGIN:VEVENT
DTSTART:20270215T130000Z
DTEND:20270215T140000Z
LOCATION:Münster\, Münsterplatz 9\, 4051 Basel
TRANSP:OPAQUE
SEQUENCE:0
UID:224942-veranstaltung@erk-bs.ch
DTSTAMP:20260309T105912Z
DESCRIPTION:Kurzfristige Schliessung (z.B. wegen Konzerten\, Abdankungen\,
  Bauarbeiten)\n\nKontakt: sandra.schmied@erk-bs.ch\n\nWeitere Infos:
  https://www.erk-bs.ch/veranstaltung/224942
SUMMARY:das Münster ist während der Fasnacht ab 14 Uhr geschlossen
PRIORITY:5
X-MICROSOFT-CDO-IMPORTANCE:1
CLASS:PUBLIC
END:VEVENT
END:VCALENDAR
