BEGIN:VCALENDAR
PRODID:-//kirchenweb.ch gmbh//veranstaltungsausgabe v2.0//DE
VERSION:2.0
METHOD:PUBLISH
BEGIN:VEVENT
DTSTART:20271119T163000Z
DTEND:20271119T174500Z
LOCATION:Hofstube\, Bischofshof\, Rittergasse 1\, 4051 Basel
TRANSP:OPAQUE
SEQUENCE:0
UID:225021-veranstaltung@erk-bs.ch
DTSTAMP:20260309T131408Z
DESCRIPTION:Gemeindegebet\, „Beten macht das Herz weit.“ (Mutter
  Teresa). Weit für Gott\, weit für die Mitmenschen\, weit für unsere
  Gemeinde und ihren Auftrag in der Stadt. Als Team von Gemeindegliedern
  laden wir herzlich ein zu einer monatlichen Gebetszeit mit liturgischen
  und freien Elementen\, mit Raum für Stille und das Hören auf Gott. Das
  kann uns auch helfen\, als Gemeinde zusammen zu wachsen. \nJeden jeden 3.
  Freitag im Monat um 17.30 Uhr in der Hofstube\, ausser Schulferien.\n
 \nweitere Termine:\n\n\n\n\nKontakt: Sr. Esther Herren\, Tel: 061  271 98
  42 \n\nWeitere Infos: https://www.erk-bs.ch/veranstaltung/225021
SUMMARY:Gemeindegebet
PRIORITY:5
X-MICROSOFT-CDO-IMPORTANCE:1
CLASS:PUBLIC
END:VEVENT
END:VCALENDAR
