BEGIN:VCALENDAR
PRODID:-//kirchenweb.ch gmbh//veranstaltungsausgabe v2.0//DE
VERSION:2.0
METHOD:PUBLISH
BEGIN:VEVENT
DTSTART:20260423T173000Z
DTEND:20260423T183000Z
LOCATION:Dorfkirche Kleinhüningen\, \,
TRANSP:OPAQUE
SEQUENCE:0
UID:225074-veranstaltung@erk-bs.ch
DTSTAMP:20260416T082138Z
DESCRIPTION:Austausch über Themen\, die bewegen bei einem Teller guter
  Suppe. Gast: Davide Maniscalco\, der über seine langjährige Tätigkeit
  als Sozialdiakon der Kirchgemeinde Kleinbasel berichtet.\n\nKontakt:
  esther.mueller-kb@erk-bs.ch\n\nWeitere Infos:
  https://www.erk-bs.ch/veranstaltung/225074
SUMMARY:Soup & Share
PRIORITY:5
X-MICROSOFT-CDO-IMPORTANCE:1
CLASS:PUBLIC
END:VEVENT
END:VCALENDAR
