BEGIN:VCALENDAR
PRODID:-//kirchenweb.ch gmbh//veranstaltungsausgabe v2.0//DE
VERSION:2.0
METHOD:PUBLISH
BEGIN:VEVENT
DTSTART:20270619T150000Z
DTEND:20270619T155000Z
LOCATION:Münster\, Münsterplatz 9\, 4051 Basel
TRANSP:OPAQUE
SEQUENCE:0
UID:225100-veranstaltung@erk-bs.ch
DTSTAMP:20260309T151325Z
DESCRIPTION:Basels klingender Auftakt zum Sonntag\n\nZur Einstimmung auf
  Bach um 5 findet um 16.30 Uhr das Vesperblasen des Stadtposaunenchors auf
  einem der Münstertürme\, bzw. bei schlechtem Wetter im Kreuzgang statt.
 \n\nSamstags um 17 Uhr im Münster können Sie zur Ruhe kommen\,
  innehalten und magischen Klängen lauschen in Wort und Musik. Ein Format
  gefüllt mit konzertanten Inhalten\, mit Musik von Bach und vielen
  bekannten und weniger bekannten Komponistinnen und Komponisten von früh
  bis heute\, die mit geistlichen Impulsen verwoben werden. Bach ist immer
  dabei — mal im Mittelpunkt\, mal als leiser Bezugspunkt für Neues.\n
 \nWarum Bach? Kaum ein Komponist ist so beliebt wie der barocke Meister
  Johann Sebastian Bach. Seine Musik\, insbesondere seine Kantaten\,
  Oratorien und Passionen erfreuen sich globaler Begeisterung. Seine
  Fähigkeit\, Worte in Musik zu setzen\, berührt noch heute. Sein OEuvre
  zeugt von einer spirituellen Quelle\, einer göttlichen Verbundenheit\,
  und öffnet Fenster zum Himmel. So sollen die Samstagskonzerte am Basler
  Münster zu Himmelsfenstern werden\, Herz und Blick weiten und Kraft und
  Freude schenken. Herzlich willkommen!\n\nAnnedore Neufeld\,
  künstlerische Leiterin\, Münsterkantorin und Dirigentin\, Pfr. Lukas
  Kundert\, Pfarrer am Münster\n\nweitere Termine: \n \n\nKontakt:
  sandra.schmied@erk-bs.ch\n\nWeitere Infos:
  https://www.erk-bs.ch/veranstaltung/225100
SUMMARY:Bach um 5
PRIORITY:5
X-MICROSOFT-CDO-IMPORTANCE:1
CLASS:PUBLIC
END:VEVENT
END:VCALENDAR
