BEGIN:VCALENDAR
PRODID:-//kirchenweb.ch gmbh//veranstaltungsausgabe v2.0//DE
VERSION:2.0
METHOD:PUBLISH
BEGIN:VEVENT
DTSTART:20260531T090000Z
DTEND:20260531T100000Z
LOCATION:St-Léonard\, \,
TRANSP:OPAQUE
SEQUENCE:0
UID:225167-veranstaltung@erk-bs.ch
DTSTAMP:20260310T124526Z
DESCRIPTION:Kontakt: celine.hauck@erk-bs.ch\n\nWeitere Infos:
  https://www.erk-bs.ch/veranstaltung/225167
SUMMARY:Assemblée de paroisse
PRIORITY:5
X-MICROSOFT-CDO-IMPORTANCE:1
CLASS:PUBLIC
END:VEVENT
END:VCALENDAR
