BEGIN:VCALENDAR
PRODID:-//kirchenweb.ch gmbh//veranstaltungsausgabe v2.0//DE
VERSION:2.0
METHOD:PUBLISH
BEGIN:VEVENT
DTSTART:20260419T090000Z
DTEND:20260419T100000Z
LOCATION:Leonhardskirchplatz 11\, \,
TRANSP:OPAQUE
SEQUENCE:0
UID:225171-veranstaltung@erk-bs.ch
DTSTAMP:20260310T125505Z
DESCRIPTION:Kontakt: celine.hauck@erk-bs.ch\n\nWeitere Infos:
  https://www.erk-bs.ch/veranstaltung/225171
SUMMARY:Rencontre GenY
PRIORITY:5
X-MICROSOFT-CDO-IMPORTANCE:1
CLASS:PUBLIC
END:VEVENT
END:VCALENDAR
