BEGIN:VCALENDAR
PRODID:-//kirchenweb.ch gmbh//veranstaltungsausgabe v2.0//DE
VERSION:2.0
METHOD:PUBLISH
BEGIN:VEVENT
DTSTART:20260426T080000Z
DTEND:20260426T090000Z
LOCATION:St-Léonard\, Leonhardskirchplatz\, 4051 Bâle
TRANSP:OPAQUE
SEQUENCE:0
UID:225173-veranstaltung@erk-bs.ch
DTSTAMP:20260407T070958Z
DESCRIPTION:Kontakt: Culte avec Cène\, Evelyne Zinsstag\nAvec le
  Unterstufenchor du\nHebelgymnasium Lörrach qui chantera une\nMesse de
  Bernhard Blitsch (2007)\n\nWeitere Infos:
  https://www.erk-bs.ch/veranstaltung/225173
SUMMARY:Culte avec Cène et participation musicale d'un chœur de jeunes
PRIORITY:5
X-MICROSOFT-CDO-IMPORTANCE:1
CLASS:PUBLIC
END:VEVENT
END:VCALENDAR
