BEGIN:VCALENDAR
PRODID:-//kirchenweb.ch gmbh//veranstaltungsausgabe v2.0//DE
VERSION:2.0
METHOD:PUBLISH
BEGIN:VEVENT
DTSTART:20260503T080000Z
DTEND:20260503T090000Z
LOCATION:St-Léonard\, Leonhardskirchplatz\, 4051 Bâle
TRANSP:OPAQUE
SEQUENCE:0
UID:225174-veranstaltung@erk-bs.ch
DTSTAMP:20260407T071122Z
DESCRIPTION:Kontakt: Dimanche 3 mai\, 10h\nCulte avec les amis de Brno et
  Cène\, Paul Schalck\n\nWeitere Infos:
  https://www.erk-bs.ch/veranstaltung/225174
SUMMARY:Culte avec notre paroisse sœur de Brno
PRIORITY:5
X-MICROSOFT-CDO-IMPORTANCE:1
CLASS:PUBLIC
END:VEVENT
END:VCALENDAR
