BEGIN:VCALENDAR
PRODID:-//kirchenweb.ch gmbh//veranstaltungsausgabe v2.0//DE
VERSION:2.0
METHOD:PUBLISH
BEGIN:VEVENT
DTSTART:20260423T060000Z
DTEND:20260423T140000Z
LOCATION:Andreashaus\, Keltenweg 41\, 4125 Riehen
TRANSP:OPAQUE
SEQUENCE:0
UID:225217-veranstaltung@erk-bs.ch
DTSTAMP:20260312T122146Z
DESCRIPTION:Kontakt: g\n\nWeitere Infos:
  https://www.erk-bs.ch/veranstaltung/225217
SUMMARY:Kleiderbörse im Andreashaus
PRIORITY:5
X-MICROSOFT-CDO-IMPORTANCE:1
CLASS:PUBLIC
END:VEVENT
END:VCALENDAR
