BEGIN:VCALENDAR
PRODID:-//kirchenweb.ch gmbh//veranstaltungsausgabe v2.0//DE
VERSION:2.0
METHOD:PUBLISH
BEGIN:VEVENT
DTSTART:20260418T060000Z
DTEND:20260418T180000Z
LOCATION:Europapark\, \,
TRANSP:OPAQUE
SEQUENCE:0
UID:225272-veranstaltung@erk-bs.ch
DTSTAMP:20260313T154129Z
DESCRIPTION:Echtanders Eventday!\n\nAls gesamte Jugendarbeit gehen wir
  gemeinsam in der Europapark!\n\nDatum: 18. April 2026\nTreffpunkt: Wird
  noch bekannt gegeben\nKosten: Ticket 56€ + Reisekosten (ca. CHF 25-30)
 \n=> Die effektiven Kosten hängen mit der Anzahl Personen zusammen und
  werden im vorhinein bekanntgegeben\n\nWir freuen uns auf einen Tag voller
  Adrenalin\, Spass und Gemeinschaft.\n\nKontakt: Lukas Martin\n\nWeitere
  Infos: https://www.erk-bs.ch/veranstaltung/225272
SUMMARY:Eventday Europapark
PRIORITY:5
X-MICROSOFT-CDO-IMPORTANCE:1
CLASS:PUBLIC
END:VEVENT
END:VCALENDAR
