BEGIN:VCALENDAR
PRODID:-//kirchenweb.ch gmbh//veranstaltungsausgabe v2.0//DE
VERSION:2.0
METHOD:PUBLISH
BEGIN:VEVENT
DTSTART:20270305T180000Z
DTEND:20270305T200000Z
LOCATION:Zwinglihaus\, Gundeldingerstrasse 370\, 4053 Basel
TRANSP:OPAQUE
SEQUENCE:0
UID:225291-veranstaltung@erk-bs.ch
DTSTAMP:20260317T072036Z
DESCRIPTION:Der Weltgebetstag Schweiz ist Teil einer weltweiten Bewegung
  von Frauen aus vielen christlichen Traditionen. Jedes Jahr am ersten
  Freitag im März laden sie alle zum Feiern eines gemeinsamen Gebetstages
  ein. Vor einigen Jahren wurde es geöffnet für alle Menschen\, egal
  welchen Geschlechts. Seid alle herzlich willkommen.\n\nKontakt: Priska
  Dürr\n\nWeitere Infos: https://www.erk-bs.ch/veranstaltung/225291
SUMMARY:Weltgebetstags-Feier
PRIORITY:5
X-MICROSOFT-CDO-IMPORTANCE:1
CLASS:PUBLIC
END:VEVENT
END:VCALENDAR
