BEGIN:VCALENDAR
PRODID:-//kirchenweb.ch gmbh//veranstaltungsausgabe v2.0//DE
VERSION:2.0
METHOD:PUBLISH
BEGIN:VEVENT
DTSTART:20260506T120000Z
DTEND:20260506T140000Z
LOCATION:Zwinglihaus\, Gundeldingerstrasse 370\, 4053 Basel
TRANSP:OPAQUE
SEQUENCE:0
UID:225467-veranstaltung@erk-bs.ch
DTSTAMP:20260318T165613Z
DESCRIPTION:Lotto im Säli\nwir haben zusammen den Plausch beim
  Lotto-Spielen und sind gespannt\, welche lustigen Preise es zu gewinnen
  gibt. Spass und Humor sollen nicht zu kurz kommen.\nMittwoch\, 6. Mai
  2026 im Zwinglihaus\n\nKontakt: Priska Dürr\n\nWeitere Infos:
  https://www.erk-bs.ch/veranstaltung/225467
SUMMARY:Lotto im Säli
PRIORITY:5
X-MICROSOFT-CDO-IMPORTANCE:1
CLASS:PUBLIC
END:VEVENT
END:VCALENDAR
