BEGIN:VCALENDAR
PRODID:-//kirchenweb.ch gmbh//veranstaltungsausgabe v2.0//DE
VERSION:2.0
METHOD:PUBLISH
BEGIN:VEVENT
DTSTART:20260417T173000Z
DTEND:20260417T183000Z
LOCATION:Thomaskirche\, Hegenheimerstr. 229\, 4055 Basel
TRANSP:OPAQUE
SEQUENCE:0
UID:225484-veranstaltung@erk-bs.ch
DTSTAMP:20260319T131136Z
DESCRIPTION:Einmal im Monat treffen wir uns am Freitagabend in der
  Thomaskirche um gemeinsam Gottesdienst zu feiern und Gott zu begegnen.
 \nMit einer genialen Band\, einem witzigen Theater und einem coolen Input
  wirst Du ermutigt und gestärkt für den Alltag und Deinen Weg mit Gott.
  Natürlich bleibt auch jede Menge Zeit für Gemeinschaft\, Freunde und
  delicious Snacks vom Pronto-Team.\n\nhttp://www.thoki-jugend.ch/\n
 \nKontakt: Mischa Müller\n\nWeitere Infos:
  https://www.erk-bs.ch/veranstaltung/225484
SUMMARY:SOS-Jugendgottesdienst
PRIORITY:5
X-MICROSOFT-CDO-IMPORTANCE:1
CLASS:PUBLIC
END:VEVENT
END:VCALENDAR
