BEGIN:VCALENDAR
PRODID:-//kirchenweb.ch gmbh//veranstaltungsausgabe v2.0//DE
VERSION:2.0
METHOD:PUBLISH
BEGIN:VEVENT
DTSTART:20270903T120000Z
DTEND:20270903T150000Z
LOCATION:Bischofshof\, Rittergasse 1\, Basel
TRANSP:OPAQUE
SEQUENCE:0
UID:225494-veranstaltung@erk-bs.ch
DTSTAMP:20260319T132821Z
DESCRIPTION:Projektnachmittage am Basler Münster\nAn vier Nachmittagen im
  Schuljahr bietet das Basler Münster Projektnachmittage für Jugendliche
  der 6. und 7. Klasse an. Wir freuen uns auf alle\, die sich für Glauben
  und Religion interessieren – gleich welcher Religion\, Konfession und
  ob getauft oder nicht. Treffpunkt ist der Eingang des Basler Münsters
  jeweils um 14 Uhr. Wir erleben Gemeinschaft\, entdecken das Münster und
  die Feste des Kirchenjahres. Wir essen und trinken zusammen und besuchen
  Orte anderen Glaubens in Basel\, lernen soziale Projekte kennen und
  sprechen über Themen wie Umwelt\, Bewahrung der Schöpfung und unsere
  kulturell vielfältige Gesellschaft. Auch Freundinnen und Freunde sind
  herzlich willkommen. \n\nFür den Anlass ist eine
  https://baslermuenster.ch/files/Infos_und_Anmeldung_Projektnachmittage_Mu
 enster.pdf erforderlich. \nDie Teilnahme ist gratis.\n\nWeitere
  Informationen unter:
 \nhttps://baslermuenster.ch/kirchliches-leben/jugendliche/kirchlicher-unte
 rricht/projektnachmittage\n\nWeitere Termine:\n\n\n\n\nKontakt: Britta
  Pollmann\, Jugendarbeit\n\nWeitere Infos:
  https://www.erk-bs.ch/veranstaltung/225494
SUMMARY:Projektnachmittag
PRIORITY:5
X-MICROSOFT-CDO-IMPORTANCE:1
CLASS:PUBLIC
END:VEVENT
END:VCALENDAR
