BEGIN:VCALENDAR
PRODID:-//kirchenweb.ch gmbh//veranstaltungsausgabe v2.0//DE
VERSION:2.0
METHOD:PUBLISH
BEGIN:VEVENT
DTSTART:20260612T160000Z
DTEND:20260612T200000Z
LOCATION:Gemeindehaus Stephanus\, Furkastrasse 12\, 4054 Basel
TRANSP:OPAQUE
SEQUENCE:0
UID:225501-veranstaltung@erk-bs.ch
DTSTAMP:20260320T082718Z
DESCRIPTION:Kontakt: Malen Surer\n\nWeitere Infos:
  https://www.erk-bs.ch/veranstaltung/225501
SUMMARY:Nachtreff Winterferien
PRIORITY:5
X-MICROSOFT-CDO-IMPORTANCE:1
CLASS:PUBLIC
END:VEVENT
END:VCALENDAR
