BEGIN:VCALENDAR
PRODID:-//kirchenweb.ch gmbh//veranstaltungsausgabe v2.0//DE
VERSION:2.0
METHOD:PUBLISH
BEGIN:VEVENT
DTSTART:20260522T173000Z
DTEND:20260522T193000Z
LOCATION:Gellertkirche\, Emanuel Büchel-Str. 40\, 4052 Basel
TRANSP:OPAQUE
SEQUENCE:0
UID:225572-veranstaltung@erk-bs.ch
DTSTAMP:20260320T165552Z
DESCRIPTION:Unsere Jugendgruppe ab 16 Jahre. Gemeinsam wollen "sehen und
  schmecken\, wie gütig der Herr ist" (Ps 34\,9) durch Inputs\, Worship\,
  Kleingruppen und Gemeinschaft.\n\nKontakt: Lukas Martin\n\nWeitere Infos:
  https://www.erk-bs.ch/veranstaltung/225572
SUMMARY:refresh - Jugendgruppe
PRIORITY:5
X-MICROSOFT-CDO-IMPORTANCE:1
CLASS:PUBLIC
END:VEVENT
END:VCALENDAR
