BEGIN:VCALENDAR
PRODID:-//kirchenweb.ch gmbh//veranstaltungsausgabe v2.0//DE
VERSION:2.0
METHOD:PUBLISH
BEGIN:VEVENT
DTSTART:20260823T080000Z
DTEND:20260823T090000Z
LOCATION:Peterskirche\, Peterskirchplatz 7\, 4051 Basel
TRANSP:OPAQUE
SEQUENCE:0
UID:225998-veranstaltung@erk-bs.ch
DTSTAMP:20260324T165538Z
DESCRIPTION:Kontakt: Hans-Adam Ritter\n\nWeitere Infos:
  https://www.erk-bs.ch/veranstaltung/225998
SUMMARY:St. Peter: Gottesdienst
PRIORITY:5
X-MICROSOFT-CDO-IMPORTANCE:1
CLASS:PUBLIC
END:VEVENT
END:VCALENDAR
