BEGIN:VCALENDAR
PRODID:-//kirchenweb.ch gmbh//veranstaltungsausgabe v2.0//DE
VERSION:2.0
METHOD:PUBLISH
BEGIN:VEVENT
DTSTART:20260906T080000Z
DTEND:20260906T090000Z
LOCATION:Gemeindehaus Stephanus\, Furkastrasse 12\, 4054 Basel
TRANSP:OPAQUE
SEQUENCE:0
UID:226001-veranstaltung@erk-bs.ch
DTSTAMP:20260323T173448Z
DESCRIPTION:mit KinderKirche\n\nKontakt: Marianne Laubscher und Simone
  Wolf\n\nWeitere Infos: https://www.erk-bs.ch/veranstaltung/226001
SUMMARY:Stephanus: Gottesdienst
PRIORITY:5
X-MICROSOFT-CDO-IMPORTANCE:1
CLASS:PUBLIC
END:VEVENT
END:VCALENDAR
