BEGIN:VCALENDAR
PRODID:-//kirchenweb.ch gmbh//veranstaltungsausgabe v2.0//DE
VERSION:2.0
METHOD:PUBLISH
BEGIN:VEVENT
DTSTART:20261101T160000Z
DTEND:20261101T170000Z
LOCATION:Johanneskirche\, Mülhauserstrasse 145\, 4056 Basel
TRANSP:OPAQUE
SEQUENCE:0
UID:226012-veranstaltung@erk-bs.ch
DTSTAMP:20260323T173922Z
DESCRIPTION:Kontakt: Simone Wolf\n\nWeitere Infos:
  https://www.erk-bs.ch/veranstaltung/226012
SUMMARY:Johannes: Familiengottesdienst zum Erntedank
PRIORITY:5
X-MICROSOFT-CDO-IMPORTANCE:1
CLASS:PUBLIC
END:VEVENT
END:VCALENDAR
