BEGIN:VCALENDAR
PRODID:-//kirchenweb.ch gmbh//veranstaltungsausgabe v2.0//DE
VERSION:2.0
METHOD:PUBLISH
BEGIN:VEVENT
DTSTART:20261122T090000Z
DTEND:20261122T100000Z
LOCATION:Gemeindehaus Stephanus\, Furkastrasse 12\, 4054 Basel
TRANSP:OPAQUE
SEQUENCE:0
UID:226017-veranstaltung@erk-bs.ch
DTSTAMP:20260323T174123Z
DESCRIPTION:Kontakt: Marianne Laubscher und Claudia Schulthess\n\nWeitere
  Infos: https://www.erk-bs.ch/veranstaltung/226017
SUMMARY:Stephanus: Gottesdienst zum Ewigkeitssonntag
PRIORITY:5
X-MICROSOFT-CDO-IMPORTANCE:1
CLASS:PUBLIC
END:VEVENT
END:VCALENDAR
